BEGIN:VCALENDAR
VERSION:2.0
PRODID:-//Fondazione Antonio Della Monica - ETS - ECPv5.11.0//NONSGML v1.0//EN
CALSCALE:GREGORIAN
METHOD:PUBLISH
X-WR-CALNAME:Fondazione Antonio Della Monica - ETS
X-ORIGINAL-URL:https://fondazioneantoniodellamonica.org
X-WR-CALDESC:Eventi per Fondazione Antonio Della Monica - ETS
BEGIN:VTIMEZONE
TZID:Europe/Rome
BEGIN:DAYLIGHT
TZOFFSETFROM:+0100
TZOFFSETTO:+0200
TZNAME:CEST
DTSTART:20250330T010000
END:DAYLIGHT
BEGIN:STANDARD
TZOFFSETFROM:+0200
TZOFFSETTO:+0100
TZNAME:CET
DTSTART:20251026T010000
END:STANDARD
END:VTIMEZONE
BEGIN:VEVENT
DTSTART;TZID=Europe/Rome:20250920T173000
DTEND;TZID=Europe/Rome:20250920T183000
DTSTAMP:20260423T232220
CREATED:20250918T003539Z
LAST-MODIFIED:20250924T011211Z
UID:3143-1758389400-1758393000@fondazioneantoniodellamonica.org
SUMMARY:Caffè della memoria 2025/2026: Incontro introduttivo con le famiglie
DESCRIPTION:Incontro con i familiari dei partecipanti al progetto Il caffè della memoria. Introduzione al  progetto che si svolgerà nei prossimi mesi del 2025/2026
URL:https://fondazioneantoniodellamonica.org/evento/incontro-introduttivo/
LOCATION:Fondazione Della Monica\, Viale Marconi 29\, Cava de' Tirreni\, Salerno\, 84013\, Italia
CATEGORIES:attività Caffè della memoria
END:VEVENT
END:VCALENDAR