BEGIN:VCALENDAR
VERSION:2.0
PRODID:-//Fondazione Antonio Della Monica - ETS - ECPv5.11.0//NONSGML v1.0//EN
CALSCALE:GREGORIAN
METHOD:PUBLISH
X-WR-CALNAME:Fondazione Antonio Della Monica - ETS
X-ORIGINAL-URL:https://fondazioneantoniodellamonica.org
X-WR-CALDESC:Eventi per Fondazione Antonio Della Monica - ETS
BEGIN:VTIMEZONE
TZID:Europe/Rome
BEGIN:DAYLIGHT
TZOFFSETFROM:+0100
TZOFFSETTO:+0200
TZNAME:CEST
DTSTART:20260329T010000
END:DAYLIGHT
BEGIN:STANDARD
TZOFFSETFROM:+0200
TZOFFSETTO:+0100
TZNAME:CET
DTSTART:20261025T010000
END:STANDARD
END:VTIMEZONE
BEGIN:VEVENT
DTSTART;TZID=Europe/Rome:20260411T170000
DTEND;TZID=Europe/Rome:20260411T190000
DTSTAMP:20260423T133936
CREATED:20260330T144452Z
LAST-MODIFIED:20260330T144452Z
UID:3541-1775926800-1775934000@fondazioneantoniodellamonica.org
SUMMARY:Incontro auto-mutuo-aiuto
DESCRIPTION:Sabato 11 aprile\, presso il salone della Fondazione Antonio Della Monica\, si terrà il terzo incontro con la dott.ssa biologa nutrizionista Marianna Borriello. \nDurante l’incontro verranno offerti consigli pratici e indicazioni alimentari per affrontare al meglio la nuova stagione\, con scelte sane\, equilibrate e adatte anche alle esigenze delle persone con demenza e dei loro caregiver. \nUn’occasione preziosa per informarsi\, fare domande e scoprire come piccoli cambiamenti possano fare una grande differenza nel benessere quotidiano. \nTi aspettiamo 💚
URL:https://fondazioneantoniodellamonica.org/evento/incontro-auto-mutuo-aiuto-3-2/
LOCATION:Fondazione Della Monica\, Viale Marconi 29\, Cava de' Tirreni\, Salerno\, 84013\, Italia
END:VEVENT
END:VCALENDAR