BEGIN:VCALENDAR
VERSION:2.0
PRODID:-//Fondazione Antonio Della Monica - ETS - ECPv5.11.0//NONSGML v1.0//EN
CALSCALE:GREGORIAN
METHOD:PUBLISH
X-WR-CALNAME:Fondazione Antonio Della Monica - ETS
X-ORIGINAL-URL:https://fondazioneantoniodellamonica.org
X-WR-CALDESC:Eventi per Fondazione Antonio Della Monica - ETS
BEGIN:VTIMEZONE
TZID:Europe/Rome
BEGIN:DAYLIGHT
TZOFFSETFROM:+0100
TZOFFSETTO:+0200
TZNAME:CEST
DTSTART:20160327T010000
END:DAYLIGHT
BEGIN:STANDARD
TZOFFSETFROM:+0200
TZOFFSETTO:+0100
TZNAME:CET
DTSTART:20161030T010000
END:STANDARD
END:VTIMEZONE
BEGIN:VEVENT
DTSTART;VALUE=DATE:20160715
DTEND;VALUE=DATE:20160716
DTSTAMP:20260421T143550
CREATED:20180730T113122Z
LAST-MODIFIED:20190122T104533Z
UID:1716-1468540800-1468627199@fondazioneantoniodellamonica.org
SUMMARY:"Benvenuta Estate"
DESCRIPTION:Pranzo di fine anno a favore degli anziani ospiti della Fondazione Antonio della Monica e dei partecipanti al progetto “Caffè della Memoria” per dare il benvenuto alla stagione estiva.
URL:https://fondazioneantoniodellamonica.org/evento/pranzo-di-fine-anno/
LOCATION:Fondazione Della Monica\, Viale Marconi 29\, Cava de' Tirreni\, Salerno\, 84013\, Italia
CATEGORIES:2016,Eventi passati
ATTACH;FMTTYPE=image/jpeg:https://fondazioneantoniodellamonica.org/wp-content/uploads/2018/07/pranzo_fine_2016_news.jpg
END:VEVENT
END:VCALENDAR