BEGIN:VCALENDAR
VERSION:2.0
PRODID:-//Fondazione Antonio Della Monica - ETS - ECPv5.11.0//NONSGML v1.0//EN
CALSCALE:GREGORIAN
METHOD:PUBLISH
X-WR-CALNAME:Fondazione Antonio Della Monica - ETS
X-ORIGINAL-URL:https://fondazioneantoniodellamonica.org
X-WR-CALDESC:Eventi per Fondazione Antonio Della Monica - ETS
BEGIN:VTIMEZONE
TZID:Europe/Rome
BEGIN:DAYLIGHT
TZOFFSETFROM:+0100
TZOFFSETTO:+0200
TZNAME:CEST
DTSTART:20170326T010000
END:DAYLIGHT
BEGIN:STANDARD
TZOFFSETFROM:+0200
TZOFFSETTO:+0100
TZNAME:CET
DTSTART:20171029T010000
END:STANDARD
END:VTIMEZONE
BEGIN:VEVENT
DTSTART;VALUE=DATE:20171111
DTEND;VALUE=DATE:20171113
DTSTAMP:20260421T143655
CREATED:20180427T084846Z
LAST-MODIFIED:20251215T224900Z
UID:260-1510358400-1510531199@fondazioneantoniodellamonica.org
SUMMARY:Sostieni "Le Noci della Memoria"
DESCRIPTION:Con un piccolo contributo di 3 Euro riceverai un sacchetto di noci con suggerimenti per il loro utilizzo e aiuterai i Progetti della Fondazione.\n \n\n \n\n"Le noci della memoria": una raccolta fondi per combattere la … \nUn weekend per la #memoria e per combattere la #demenza.Sabato 11 e Domenica 12 Novembre\, gli operatori della Fondazione Antonio Della Monica saranno presenti in Piazza Vittorio Emanuele III con “Le noci della memoria”. L'obiettivo della iniziativa\,patrocinata dal Comune di Cava de' Tirreni\, è quello di raccogliere il maggior quantitativo di fondi per le persone che vivono ogni giorno il disagio della demenza. #rtcquartarete #cavadetirreni \nPubliée par Rtc Quarta Rete sur Jeudi 9 novembre 2017 \n\n \nhttps://www.facebook.com/RTCQUARTARETE/videos/1577369469016811/&show_text=false&t=20 \n 
URL:https://fondazioneantoniodellamonica.org/evento/sostieni-le-noci-della-memoria/
LOCATION:Piazza Duomo\, Piazza Duomo\, Cava de' Tirreni\, Salerno\, 84013\, Italia
CATEGORIES:2017,Eventi passati,raccolta fondi
ATTACH;FMTTYPE=image/jpeg:https://fondazioneantoniodellamonica.org/wp-content/uploads/2018/07/noci_banner.jpg
END:VEVENT
END:VCALENDAR