BEGIN:VCALENDAR
VERSION:2.0
PRODID:-//Fondazione Antonio Della Monica - ETS - ECPv5.11.0//NONSGML v1.0//EN
CALSCALE:GREGORIAN
METHOD:PUBLISH
X-WR-CALNAME:Fondazione Antonio Della Monica - ETS
X-ORIGINAL-URL:https://fondazioneantoniodellamonica.org
X-WR-CALDESC:Eventi per Fondazione Antonio Della Monica - ETS
BEGIN:VTIMEZONE
TZID:Europe/Rome
BEGIN:DAYLIGHT
TZOFFSETFROM:+0100
TZOFFSETTO:+0200
TZNAME:CEST
DTSTART:20170326T010000
END:DAYLIGHT
BEGIN:STANDARD
TZOFFSETFROM:+0200
TZOFFSETTO:+0100
TZNAME:CET
DTSTART:20171029T010000
END:STANDARD
END:VTIMEZONE
BEGIN:VEVENT
DTSTART;TZID=Europe/Rome:20171219T173000
DTEND;TZID=Europe/Rome:20171219T200000
DTSTAMP:20260423T133915
CREATED:20180427T083811Z
LAST-MODIFIED:20190122T104457Z
UID:254-1513704600-1513713600@fondazioneantoniodellamonica.org
SUMMARY:Speciale Menù delle Feste Dicembre
DESCRIPTION:Quest’anno abbiamo parlato tanto di alimentazione macromediterranea come fattore fondamentale per il benessere e la prevenzione! Concluderemo l’anno con una lezione in cui verrà spiegato un intero menù salutare per una cena delle feste speciale e ci sarà l’occasione per eliminare alcuni dubbi nella creazione dei vostri menù giornalieri. Infatti anche questa volta ci sarà la dott.ssa M. de Magistris esperta da 20 anni di alimentazione salutare diffusa in Italia attraverso il progetto Diana di cui lei fa parte. Infine\, la lezione pratica-teorica si concluderà con la cena completa che insieme è stata preparata. \nVi aspettiamo!\nPer informazioni e iscrizioni tel. 3493719834
URL:https://fondazioneantoniodellamonica.org/evento/speciale-menu-delle-feste-2/
LOCATION:Fondazione Della Monica\, Viale Marconi 29\, Cava de' Tirreni\, Salerno\, 84013\, Italia
CATEGORIES:2017,Eventi passati
ATTACH;FMTTYPE=image/jpeg:https://fondazioneantoniodellamonica.org/wp-content/uploads/2018/04/menu_feste_big.jpg
END:VEVENT
END:VCALENDAR